BEGIN:VCALENDAR
VERSION:2.0
PRODID:-//E.H.S.A.A. - ECPv6.15.20//NONSGML v1.0//EN
CALSCALE:GREGORIAN
METHOD:PUBLISH
X-WR-CALNAME:E.H.S.A.A.
X-ORIGINAL-URL:https://ehsaa.co.uk
X-WR-CALDESC:Events for E.H.S.A.A.
REFRESH-INTERVAL;VALUE=DURATION:PT1H
X-Robots-Tag:noindex
X-PUBLISHED-TTL:PT1H
BEGIN:VTIMEZONE
TZID:UTC
BEGIN:STANDARD
TZOFFSETFROM:+0000
TZOFFSETTO:+0000
TZNAME:UTC
DTSTART:20250101T000000
END:STANDARD
END:VTIMEZONE
BEGIN:VEVENT
DTSTART;TZID=UTC:20260822T120000
DTEND;TZID=UTC:20260822T220000
DTSTAMP:20260424T121701
CREATED:20260208T150851Z
LAST-MODIFIED:20260208T150851Z
UID:10000200-1787400000-1787436000@ehsaa.co.uk
SUMMARY:The Koho Music Festival
DESCRIPTION:
URL:https://ehsaa.co.uk/social-event/the-koho-music-festival/2026-08-22/
LOCATION:East Hastings Sea Angling Association\, The Stade\, Hastings\, East Sussex\, TN34 3FJ\, United Kingdom
ATTACH;FMTTYPE=image/jpeg:https://ehsaa.co.uk/wp-content/uploads/2026/02/banner54.jpg
END:VEVENT
BEGIN:VEVENT
DTSTART;TZID=UTC:20260823T120000
DTEND;TZID=UTC:20260823T220000
DTSTAMP:20260424T121701
CREATED:20260208T150851Z
LAST-MODIFIED:20260208T150851Z
UID:10000201-1787486400-1787522400@ehsaa.co.uk
SUMMARY:The Koho Music Festival
DESCRIPTION:
URL:https://ehsaa.co.uk/social-event/the-koho-music-festival/2026-08-23/
LOCATION:East Hastings Sea Angling Association\, The Stade\, Hastings\, East Sussex\, TN34 3FJ\, United Kingdom
ATTACH;FMTTYPE=image/jpeg:https://ehsaa.co.uk/wp-content/uploads/2026/02/banner54.jpg
END:VEVENT
BEGIN:VEVENT
DTSTART;TZID=UTC:20260829T203000
DTEND;TZID=UTC:20260829T230000
DTSTAMP:20260424T121701
CREATED:20251230T153409Z
LAST-MODIFIED:20251230T153409Z
UID:10000158-1788035400-1788044400@ehsaa.co.uk
SUMMARY:Pheonix Fires
DESCRIPTION:
URL:https://ehsaa.co.uk/social-event/pheonix-fires/
LOCATION:East Hastings Sea Angling Association\, The Stade\, Hastings\, East Sussex\, TN34 3FJ\, United Kingdom
ATTACH;FMTTYPE=image/jpeg:https://ehsaa.co.uk/wp-content/uploads/2025/12/pheonix-fires.jpg
END:VEVENT
BEGIN:VEVENT
DTSTART;TZID=UTC:20260905T203000
DTEND;TZID=UTC:20260905T230000
DTSTAMP:20260424T121702
CREATED:20250430T152459Z
LAST-MODIFIED:20260130T140715Z
UID:10000145-1788640200-1788649200@ehsaa.co.uk
SUMMARY:Northern Soul
DESCRIPTION:This is free to members\, but ticketed to non members\n 
URL:https://ehsaa.co.uk/social-event/northern-soul/2026-09-05/
LOCATION:East Hastings Sea Angling Association\, The Stade\, Hastings\, East Sussex\, TN34 3FJ\, United Kingdom
ATTACH;FMTTYPE=image/jpeg:https://ehsaa.co.uk/wp-content/uploads/2025/04/northern-soul-main.jpg
END:VEVENT
BEGIN:VEVENT
DTSTART;TZID=UTC:20260909T193000
DTEND;TZID=UTC:20260909T220000
DTSTAMP:20260424T121702
CREATED:20260305T153407Z
LAST-MODIFIED:20260305T154405Z
UID:10000209-1788982200-1788991200@ehsaa.co.uk
SUMMARY:Quiz Night
DESCRIPTION:
URL:https://ehsaa.co.uk/social-event/quiz-night/2026-09-09/
LOCATION:East Hastings Sea Angling Association\, The Stade\, Hastings\, East Sussex\, TN34 3FJ\, United Kingdom
ATTACH;FMTTYPE=image/jpeg:https://ehsaa.co.uk/wp-content/uploads/2026/03/Trivia-night.jpg
END:VEVENT
BEGIN:VEVENT
DTSTART;TZID=UTC:20260912T203000
DTEND;TZID=UTC:20260912T220000
DTSTAMP:20260424T121702
CREATED:20241009T150310Z
LAST-MODIFIED:20260115T140410Z
UID:10000176-1789245000-1789250400@ehsaa.co.uk
SUMMARY:Tin Whisky
DESCRIPTION:Top Hastings band\, featuring songs from Tom Petty\, Bruce Springsteen\, Guns n Roses\, ELO and much more.
URL:https://ehsaa.co.uk/social-event/tin-whisky/2026-09-12/
LOCATION:East Hastings Sea Angling Association\, The Stade\, Hastings\, East Sussex\, TN34 3FJ\, United Kingdom
ATTACH;FMTTYPE=image/jpeg:https://ehsaa.co.uk/wp-content/uploads/2025/10/tin-whiskey.jpg
END:VEVENT
BEGIN:VEVENT
DTSTART;TZID=UTC:20260919T203000
DTEND;TZID=UTC:20260919T230000
DTSTAMP:20260424T121702
CREATED:20240805T144750Z
LAST-MODIFIED:20251018T122737Z
UID:10000131-1789849800-1789858800@ehsaa.co.uk
SUMMARY:Andy T King as Elvis
DESCRIPTION:Andy T King – Elvis Tribute
URL:https://ehsaa.co.uk/social-event/andy-t-king/2026-09-19/
LOCATION:East Hastings Sea Angling Association\, The Stade\, Hastings\, East Sussex\, TN34 3FJ\, United Kingdom
ATTACH;FMTTYPE=image/jpeg:https://ehsaa.co.uk/wp-content/uploads/2024/08/elvis.jpg
END:VEVENT
BEGIN:VEVENT
DTSTART;TZID=UTC:20260926T203000
DTEND;TZID=UTC:20260926T230000
DTSTAMP:20260424T121702
CREATED:20240805T200749Z
LAST-MODIFIED:20251018T115612Z
UID:10000121-1790454600-1790463600@ehsaa.co.uk
SUMMARY:Rockin' Ambassadors
DESCRIPTION:Rockin’ Ambassadors – A five-piece covers band
URL:https://ehsaa.co.uk/social-event/rockin-ambassadors/2026-09-26/
LOCATION:East Hastings Sea Angling Association\, The Stade\, Hastings\, East Sussex\, TN34 3FJ\, United Kingdom
ATTACH;FMTTYPE=image/jpeg:https://ehsaa.co.uk/wp-content/uploads/2024/08/rockin-ambassadors1.jpg
END:VEVENT
BEGIN:VEVENT
DTSTART;TZID=UTC:20261003T203000
DTEND;TZID=UTC:20261003T230000
DTSTAMP:20260424T121702
CREATED:20240805T202604Z
LAST-MODIFIED:20251219T141147Z
UID:10000133-1791059400-1791068400@ehsaa.co.uk
SUMMARY:The Coverups
DESCRIPTION:The Coverups – A club favourite and a brilliant covers band
URL:https://ehsaa.co.uk/social-event/the-coverups/2026-10-03/
LOCATION:East Hastings Sea Angling Association\, The Stade\, Hastings\, East Sussex\, TN34 3FJ\, United Kingdom
ATTACH;FMTTYPE=image/jpeg:https://ehsaa.co.uk/wp-content/uploads/2024/08/coverups1.jpg
END:VEVENT
BEGIN:VEVENT
DTSTART;TZID=UTC:20261004T140000
DTEND;TZID=UTC:20261004T160000
DTSTAMP:20260424T121702
CREATED:20251019T131028Z
LAST-MODIFIED:20260115T135502Z
UID:10000170-1791122400-1791129600@ehsaa.co.uk
SUMMARY:Gina Cassissa
DESCRIPTION:
URL:https://ehsaa.co.uk/social-event/gina-cassissa/2026-10-04/
LOCATION:East Hastings Sea Angling Association\, The Stade\, Hastings\, East Sussex\, TN34 3FJ\, United Kingdom
ATTACH;FMTTYPE=image/jpeg:https://ehsaa.co.uk/wp-content/uploads/2025/10/7648.jpg
END:VEVENT
BEGIN:VEVENT
DTSTART;TZID=UTC:20261007T193000
DTEND;TZID=UTC:20261007T220000
DTSTAMP:20260424T121702
CREATED:20260305T153407Z
LAST-MODIFIED:20260305T154405Z
UID:10000210-1791401400-1791410400@ehsaa.co.uk
SUMMARY:Quiz Night
DESCRIPTION:
URL:https://ehsaa.co.uk/social-event/quiz-night/2026-10-07/
LOCATION:East Hastings Sea Angling Association\, The Stade\, Hastings\, East Sussex\, TN34 3FJ\, United Kingdom
ATTACH;FMTTYPE=image/jpeg:https://ehsaa.co.uk/wp-content/uploads/2026/03/Trivia-night.jpg
END:VEVENT
BEGIN:VEVENT
DTSTART;TZID=UTC:20261010T203000
DTEND;TZID=UTC:20261010T230000
DTSTAMP:20260424T121702
CREATED:20240805T195636Z
LAST-MODIFIED:20260130T140157Z
UID:10000189-1791664200-1791673200@ehsaa.co.uk
SUMMARY:Soul Town
DESCRIPTION:Soul Town – All the best Motown music from a great band of up to 10 musicians.
URL:https://ehsaa.co.uk/social-event/soul-town/2026-10-10/
LOCATION:East Hastings Sea Angling Association\, The Stade\, Hastings\, East Sussex\, TN34 3FJ\, United Kingdom
ATTACH;FMTTYPE=image/jpeg:https://ehsaa.co.uk/wp-content/uploads/2024/08/Soul-Town1.jpg
END:VEVENT
BEGIN:VEVENT
DTSTART;TZID=UTC:20261017T203000
DTEND;TZID=UTC:20261017T230000
DTSTAMP:20260424T121702
CREATED:20250430T154559Z
LAST-MODIFIED:20251019T131703Z
UID:10000129-1792269000-1792278000@ehsaa.co.uk
SUMMARY:Ghost Riders - Reborn
DESCRIPTION:
URL:https://ehsaa.co.uk/social-event/ghost-riders/2026-10-17/
LOCATION:East Hastings Sea Angling Association\, The Stade\, Hastings\, East Sussex\, TN34 3FJ\, United Kingdom
ATTACH;FMTTYPE=image/jpeg:https://ehsaa.co.uk/wp-content/uploads/2025/04/ghostriders.jpg
END:VEVENT
BEGIN:VEVENT
DTSTART;TZID=UTC:20261018T140000
DTEND;TZID=UTC:20261018T160000
DTSTAMP:20260424T121702
CREATED:20260115T132515Z
LAST-MODIFIED:20260130T134643Z
UID:10000183-1792332000-1792339200@ehsaa.co.uk
SUMMARY:Stewart Taylor
DESCRIPTION:Stewart Taylor
URL:https://ehsaa.co.uk/social-event/stewart-taylor/2026-10-18/
LOCATION:East Hastings Sea Angling Association\, The Stade\, Hastings\, East Sussex\, TN34 3FJ\, United Kingdom
ATTACH;FMTTYPE=image/jpeg:https://ehsaa.co.uk/wp-content/uploads/2026/01/stewart-taylor.jpg
END:VEVENT
BEGIN:VEVENT
DTSTART;TZID=UTC:20261024T080000
DTEND;TZID=UTC:20261024T170000
DTSTAMP:20260424T121702
CREATED:20260208T145101Z
LAST-MODIFIED:20260208T145101Z
UID:10000180-1792828800-1792861200@ehsaa.co.uk
SUMMARY:Paradise 80's Duo
DESCRIPTION:There is a party on\, but the venue is still open to all
URL:https://ehsaa.co.uk/social-event/paradise-80s-duo-2/
LOCATION:East Hastings Sea Angling Association\, The Stade\, Hastings\, East Sussex\, TN34 3FJ\, United Kingdom
ATTACH;FMTTYPE=image/jpeg:https://ehsaa.co.uk/wp-content/uploads/2026/01/paradise-duo.1.jpg
END:VEVENT
BEGIN:VEVENT
DTSTART;TZID=UTC:20261101T140000
DTEND;TZID=UTC:20261101T160000
DTSTAMP:20260424T121702
CREATED:20240805T135049Z
LAST-MODIFIED:20260115T135839Z
UID:10000174-1793541600-1793548800@ehsaa.co.uk
SUMMARY:Stevie Bart
DESCRIPTION:Stevie Bart – the man of many voices\, providing music from the stars of rock n’ roll from the 50s\, 60s and beyond.
URL:https://ehsaa.co.uk/social-event/stevie-bart/2026-11-01/
LOCATION:East Hastings Sea Angling Association\, The Stade\, Hastings\, East Sussex\, TN34 3FJ\, United Kingdom
ATTACH;FMTTYPE=image/jpeg:https://ehsaa.co.uk/wp-content/uploads/2024/08/stevie-bart.jpg
END:VEVENT
BEGIN:VEVENT
DTSTART;TZID=UTC:20261104T193000
DTEND;TZID=UTC:20261104T220000
DTSTAMP:20260424T121702
CREATED:20260305T153407Z
LAST-MODIFIED:20260305T154405Z
UID:10000211-1793820600-1793829600@ehsaa.co.uk
SUMMARY:Quiz Night
DESCRIPTION:
URL:https://ehsaa.co.uk/social-event/quiz-night/2026-11-04/
LOCATION:East Hastings Sea Angling Association\, The Stade\, Hastings\, East Sussex\, TN34 3FJ\, United Kingdom
ATTACH;FMTTYPE=image/jpeg:https://ehsaa.co.uk/wp-content/uploads/2026/03/Trivia-night.jpg
END:VEVENT
BEGIN:VEVENT
DTSTART;TZID=UTC:20261107T203000
DTEND;TZID=UTC:20261107T230000
DTSTAMP:20260424T121702
CREATED:20251018T110249Z
LAST-MODIFIED:20260115T140857Z
UID:10000119-1794083400-1794092400@ehsaa.co.uk
SUMMARY:The Rockitmen
DESCRIPTION:
URL:https://ehsaa.co.uk/social-event/the-rockitmen/2026-11-07/
LOCATION:East Hastings Sea Angling Association\, The Stade\, Hastings\, East Sussex\, TN34 3FJ\, United Kingdom
ATTACH;FMTTYPE=image/jpeg:https://ehsaa.co.uk/wp-content/uploads/2025/10/rockitmen.jpg
END:VEVENT
BEGIN:VEVENT
DTSTART;TZID=UTC:20261114T203000
DTEND;TZID=UTC:20261114T230000
DTSTAMP:20260424T121702
CREATED:20241028T145429Z
LAST-MODIFIED:20260130T140353Z
UID:10000190-1794688200-1794697200@ehsaa.co.uk
SUMMARY:Hunky Dory
DESCRIPTION:No costumes\, no gimmicks\, just a celebration of the music of David Bowie
URL:https://ehsaa.co.uk/social-event/hunky-dory/2026-11-14/
LOCATION:East Hastings Sea Angling Association\, The Stade\, Hastings\, East Sussex\, TN34 3FJ\, United Kingdom
ATTACH;FMTTYPE=image/jpeg:https://ehsaa.co.uk/wp-content/uploads/2024/10/hunky-dory-1.jpg
END:VEVENT
BEGIN:VEVENT
DTSTART;TZID=UTC:20261121T203000
DTEND;TZID=UTC:20261121T230000
DTSTAMP:20260424T121702
CREATED:20250430T152459Z
LAST-MODIFIED:20260130T140715Z
UID:10000191-1795293000-1795302000@ehsaa.co.uk
SUMMARY:Northern Soul
DESCRIPTION:This is free to members\, but ticketed to non members\n 
URL:https://ehsaa.co.uk/social-event/northern-soul/2026-11-21/
LOCATION:East Hastings Sea Angling Association\, The Stade\, Hastings\, East Sussex\, TN34 3FJ\, United Kingdom
ATTACH;FMTTYPE=image/jpeg:https://ehsaa.co.uk/wp-content/uploads/2025/04/northern-soul-main.jpg
END:VEVENT
BEGIN:VEVENT
DTSTART;TZID=UTC:20261128T203000
DTEND;TZID=UTC:20261128T230000
DTSTAMP:20260424T121702
CREATED:20260208T145247Z
LAST-MODIFIED:20260208T145247Z
UID:10000125-1795897800-1795906800@ehsaa.co.uk
SUMMARY:Sarah G and the Other 3
DESCRIPTION:Sarah G and the Other 3 – A great and very popular covers band \nThere is a party on\, but the venue is still open to all
URL:https://ehsaa.co.uk/social-event/sarah-g-and-the-other-3-2/
LOCATION:East Hastings Sea Angling Association\, The Stade\, Hastings\, East Sussex\, TN34 3FJ\, United Kingdom
ATTACH;FMTTYPE=image/jpeg:https://ehsaa.co.uk/wp-content/uploads/2024/08/sarah.g-2.jpg
END:VEVENT
BEGIN:VEVENT
DTSTART;TZID=UTC:20261205T203000
DTEND;TZID=UTC:20261205T230000
DTSTAMP:20260424T121702
CREATED:20251018T122155Z
LAST-MODIFIED:20251018T122155Z
UID:10000127-1796502600-1796511600@ehsaa.co.uk
SUMMARY:Chandeliers
DESCRIPTION:
URL:https://ehsaa.co.uk/social-event/chandeliers-2/2026-12-05/
LOCATION:East Hastings Sea Angling Association\, The Stade\, Hastings\, East Sussex\, TN34 3FJ\, United Kingdom
ATTACH;FMTTYPE=image/jpeg:https://ehsaa.co.uk/wp-content/uploads/2025/10/chandeliers.jpg
END:VEVENT
BEGIN:VEVENT
DTSTART;TZID=UTC:20261209T193000
DTEND;TZID=UTC:20261209T220000
DTSTAMP:20260424T121702
CREATED:20260305T153407Z
LAST-MODIFIED:20260305T154405Z
UID:10000212-1796844600-1796853600@ehsaa.co.uk
SUMMARY:Quiz Night
DESCRIPTION:
URL:https://ehsaa.co.uk/social-event/quiz-night/2026-12-09/
LOCATION:East Hastings Sea Angling Association\, The Stade\, Hastings\, East Sussex\, TN34 3FJ\, United Kingdom
ATTACH;FMTTYPE=image/jpeg:https://ehsaa.co.uk/wp-content/uploads/2026/03/Trivia-night.jpg
END:VEVENT
BEGIN:VEVENT
DTSTART;TZID=UTC:20261212T203000
DTEND;TZID=UTC:20261212T230000
DTSTAMP:20260424T121702
CREATED:20251019T132245Z
LAST-MODIFIED:20260130T140903Z
UID:10000192-1797107400-1797116400@ehsaa.co.uk
SUMMARY:Blues Brothers and Soul Sisters charity Event
DESCRIPTION:
URL:https://ehsaa.co.uk/social-event/blues-brothers-charity-night/2026-12-12/
LOCATION:East Hastings Sea Angling Association\, The Stade\, Hastings\, East Sussex\, TN34 3FJ\, United Kingdom
END:VEVENT
BEGIN:VEVENT
DTSTART;TZID=UTC:20261213T140000
DTEND;TZID=UTC:20261213T160000
DTSTAMP:20260424T121702
CREATED:20251019T131028Z
LAST-MODIFIED:20260115T135502Z
UID:10000171-1797170400-1797177600@ehsaa.co.uk
SUMMARY:Gina Cassissa
DESCRIPTION:
URL:https://ehsaa.co.uk/social-event/gina-cassissa/2026-12-13/
LOCATION:East Hastings Sea Angling Association\, The Stade\, Hastings\, East Sussex\, TN34 3FJ\, United Kingdom
ATTACH;FMTTYPE=image/jpeg:https://ehsaa.co.uk/wp-content/uploads/2025/10/7648.jpg
END:VEVENT
BEGIN:VEVENT
DTSTART;TZID=UTC:20261219T203000
DTEND;TZID=UTC:20261219T230000
DTSTAMP:20260424T121702
CREATED:20240805T201229Z
LAST-MODIFIED:20251230T151342Z
UID:10000147-1797712200-1797721200@ehsaa.co.uk
SUMMARY:The Kytes
DESCRIPTION:The Kytes – an exciting\, energetic band playing classics by The Beatles\, Stones\, Oasis and lots more
URL:https://ehsaa.co.uk/social-event/the-kytes/2026-12-19/
LOCATION:East Hastings Sea Angling Association\, The Stade\, Hastings\, East Sussex\, TN34 3FJ\, United Kingdom
ATTACH;FMTTYPE=image/jpeg:https://ehsaa.co.uk/wp-content/uploads/2024/08/The-Kytes1.jpg
END:VEVENT
BEGIN:VEVENT
DTSTART;TZID=UTC:20261220T140000
DTEND;TZID=UTC:20261220T160000
DTSTAMP:20260424T121702
CREATED:20240805T135049Z
LAST-MODIFIED:20260115T135839Z
UID:10000175-1797775200-1797782400@ehsaa.co.uk
SUMMARY:Stevie Bart
DESCRIPTION:Stevie Bart – the man of many voices\, providing music from the stars of rock n’ roll from the 50s\, 60s and beyond.
URL:https://ehsaa.co.uk/social-event/stevie-bart/2026-12-20/
LOCATION:East Hastings Sea Angling Association\, The Stade\, Hastings\, East Sussex\, TN34 3FJ\, United Kingdom
ATTACH;FMTTYPE=image/jpeg:https://ehsaa.co.uk/wp-content/uploads/2024/08/stevie-bart.jpg
END:VEVENT
BEGIN:VEVENT
DTSTART;TZID=UTC:20261231T203000
DTEND;TZID=UTC:20270101T003000
DTSTAMP:20260424T121702
CREATED:20240805T202950Z
LAST-MODIFIED:20260115T132014Z
UID:10000166-1798749000-1798763400@ehsaa.co.uk
SUMMARY:Vexed
DESCRIPTION:Vexed – Hastings based four-piece band who play a mix of rock classics and pop tunes given that ‘vexed’ touch
URL:https://ehsaa.co.uk/social-event/vexed/2026-12-31/
LOCATION:East Hastings Sea Angling Association\, The Stade\, Hastings\, East Sussex\, TN34 3FJ\, United Kingdom
ATTACH;FMTTYPE=image/jpeg:https://ehsaa.co.uk/wp-content/uploads/2024/08/Vexed1.jpg
END:VEVENT
END:VCALENDAR