BEGIN:VCALENDAR
VERSION:2.0
PRODID:-//E.H.S.A.A. - ECPv6.15.20//NONSGML v1.0//EN
CALSCALE:GREGORIAN
METHOD:PUBLISH
X-ORIGINAL-URL:https://ehsaa.co.uk
X-WR-CALDESC:Events for E.H.S.A.A.
REFRESH-INTERVAL;VALUE=DURATION:PT1H
X-Robots-Tag:noindex
X-PUBLISHED-TTL:PT1H
BEGIN:VTIMEZONE
TZID:UTC
BEGIN:STANDARD
TZOFFSETFROM:+0000
TZOFFSETTO:+0000
TZNAME:UTC
DTSTART:20230101T000000
END:STANDARD
END:VTIMEZONE
BEGIN:VEVENT
DTSTART;TZID=UTC:20241109T203000
DTEND;TZID=UTC:20241109T230000
DTSTAMP:20260425T034402
CREATED:20240805T202256Z
LAST-MODIFIED:20240805T202256Z
UID:10000031-1731184200-1731193200@ehsaa.co.uk
SUMMARY:Little Big Stone
DESCRIPTION:Little Big Stone – A six-piece soul band
URL:https://ehsaa.co.uk/social-event/little-big-stone/
LOCATION:East Hastings Sea Angling Association\, The Stade\, Hastings\, East Sussex\, TN34 3FJ\, United Kingdom
ATTACH;FMTTYPE=image/jpeg:https://ehsaa.co.uk/wp-content/uploads/2024/08/Little-Big-Stone.jpg
END:VEVENT
BEGIN:VEVENT
DTSTART;TZID=UTC:20241103T140000
DTEND;TZID=UTC:20241103T160000
DTSTAMP:20260425T034402
CREATED:20241009T133907Z
LAST-MODIFIED:20241009T133907Z
UID:10000049-1730642400-1730649600@ehsaa.co.uk
SUMMARY:Don Novak
DESCRIPTION:Don Novak is an experienced guitar based solo performer offering a wide range of music from Neil Sedaka to George Ezra\, and plenty in between. \n 
URL:https://ehsaa.co.uk/social-event/don-novak/2024-11-03/
LOCATION:East Hastings Sea Angling Association\, The Stade\, Hastings\, East Sussex\, TN34 3FJ\, United Kingdom
ATTACH;FMTTYPE=image/jpeg:https://ehsaa.co.uk/wp-content/uploads/2024/10/Don-Novak1.jpg
END:VEVENT
BEGIN:VEVENT
DTSTART;TZID=UTC:20241102T203000
DTEND;TZID=UTC:20241102T230000
DTSTAMP:20260425T034402
CREATED:20240805T202001Z
LAST-MODIFIED:20251018T121826Z
UID:10000030-1730579400-1730588400@ehsaa.co.uk
SUMMARY:Sarah G and the Other 3
DESCRIPTION:Sarah G and the Other 3 – A great and very popular covers band
URL:https://ehsaa.co.uk/social-event/sarah-g-and-the-other-3/2024-11-02/
LOCATION:East Hastings Sea Angling Association\, The Stade\, Hastings\, East Sussex\, TN34 3FJ\, United Kingdom
ATTACH;FMTTYPE=image/jpeg:https://ehsaa.co.uk/wp-content/uploads/2024/08/sarah.g-2.jpg
END:VEVENT
BEGIN:VEVENT
DTSTART;TZID=UTC:20241101T190000
DTEND;TZID=UTC:20241101T230000
DTSTAMP:20260425T034402
CREATED:20240806T114900Z
LAST-MODIFIED:20240806T114900Z
UID:10000039-1730487600-1730502000@ehsaa.co.uk
SUMMARY:Halloween disco
DESCRIPTION:Halloween disco from 7.30pm
URL:https://ehsaa.co.uk/social-event/halloween-disco/
LOCATION:East Hastings Sea Angling Association\, The Stade\, Hastings\, East Sussex\, TN34 3FJ\, United Kingdom
END:VEVENT
BEGIN:VEVENT
DTSTART;TZID=UTC:20241027T140000
DTEND;TZID=UTC:20241027T160000
DTSTAMP:20260425T034403
CREATED:20240805T151921Z
LAST-MODIFIED:20250430T141557Z
UID:10000017-1730037600-1730044800@ehsaa.co.uk
SUMMARY:Ritchie Lee
DESCRIPTION:Ritchie Lee – A talented and versatile solo singer\, entertainment guaranteed.
URL:https://ehsaa.co.uk/social-event/ritchie-lee/2024-10-27/
LOCATION:East Hastings Sea Angling Association\, The Stade\, Hastings\, East Sussex\, TN34 3FJ\, United Kingdom
ATTACH;FMTTYPE=image/jpeg:https://ehsaa.co.uk/wp-content/uploads/2024/08/ritchie-lee3.jpg
END:VEVENT
BEGIN:VEVENT
DTSTART;TZID=UTC:20241019T203000
DTEND;TZID=UTC:20241019T230000
DTSTAMP:20260425T034403
CREATED:20240805T201422Z
LAST-MODIFIED:20241028T144628Z
UID:10000028-1729369800-1729378800@ehsaa.co.uk
SUMMARY:Rockaround Band
DESCRIPTION:Rockaround Band – An old favourite
URL:https://ehsaa.co.uk/social-event/rockaround-band/2024-10-19/
LOCATION:East Hastings Sea Angling Association\, The Stade\, Hastings\, East Sussex\, TN34 3FJ\, United Kingdom
END:VEVENT
BEGIN:VEVENT
DTSTART;TZID=UTC:20241012T200000
DTEND;TZID=UTC:20241012T230000
DTSTAMP:20260425T034403
CREATED:20240805T201229Z
LAST-MODIFIED:20251230T151342Z
UID:10000027-1728763200-1728774000@ehsaa.co.uk
SUMMARY:The Kytes
DESCRIPTION:The Kytes – an exciting\, energetic band playing classics by The Beatles\, Stones\, Oasis and lots more
URL:https://ehsaa.co.uk/social-event/the-kytes/2024-10-12/
LOCATION:East Hastings Sea Angling Association\, The Stade\, Hastings\, East Sussex\, TN34 3FJ\, United Kingdom
ATTACH;FMTTYPE=image/jpeg:https://ehsaa.co.uk/wp-content/uploads/2024/08/The-Kytes1.jpg
END:VEVENT
BEGIN:VEVENT
DTSTART;TZID=UTC:20241006T140000
DTEND;TZID=UTC:20241006T160000
DTSTAMP:20260425T034403
CREATED:20240805T201044Z
LAST-MODIFIED:20240806T130536Z
UID:10000025-1728223200-1728230400@ehsaa.co.uk
SUMMARY:Earl Grey
DESCRIPTION:Earl Grey – He takes songs you had forgotten you loved and turns them into acoustic gems.
URL:https://ehsaa.co.uk/social-event/earl-grey/2024-10-06/
LOCATION:East Hastings Sea Angling Association\, The Stade\, Hastings\, East Sussex\, TN34 3FJ\, United Kingdom
ATTACH;FMTTYPE=image/jpeg:https://ehsaa.co.uk/wp-content/uploads/2024/08/Earl-Grey2.jpg
END:VEVENT
BEGIN:VEVENT
DTSTART;TZID=UTC:20241005T203000
DTEND;TZID=UTC:20241005T230000
DTSTAMP:20260425T034403
CREATED:20240805T200749Z
LAST-MODIFIED:20251018T115612Z
UID:10000024-1728160200-1728169200@ehsaa.co.uk
SUMMARY:Rockin' Ambassadors
DESCRIPTION:Rockin’ Ambassadors – A five-piece covers band
URL:https://ehsaa.co.uk/social-event/rockin-ambassadors/2024-10-05/
LOCATION:East Hastings Sea Angling Association\, The Stade\, Hastings\, East Sussex\, TN34 3FJ\, United Kingdom
ATTACH;FMTTYPE=image/jpeg:https://ehsaa.co.uk/wp-content/uploads/2024/08/rockin-ambassadors1.jpg
END:VEVENT
BEGIN:VEVENT
DTSTART;TZID=UTC:20240929T140000
DTEND;TZID=UTC:20240929T160000
DTSTAMP:20260425T034403
CREATED:20240805T145421Z
LAST-MODIFIED:20260105T115115Z
UID:10000011-1727618400-1727625600@ehsaa.co.uk
SUMMARY:Yasmien
DESCRIPTION:Yasmien Huband – our very own songstress bringing you popular songs from all eras with a soulful twist.
URL:https://ehsaa.co.uk/social-event/yasmien-huband/2024-09-29/
LOCATION:East Hastings Sea Angling Association\, The Stade\, Hastings\, East Sussex\, TN34 3FJ\, United Kingdom
ATTACH;FMTTYPE=image/jpeg:https://ehsaa.co.uk/wp-content/uploads/2024/08/yas.jpg
END:VEVENT
BEGIN:VEVENT
DTSTART;TZID=UTC:20240928T203000
DTEND;TZID=UTC:20240928T230000
DTSTAMP:20260425T034403
CREATED:20240805T200005Z
LAST-MODIFIED:20240806T130209Z
UID:10000023-1727555400-1727564400@ehsaa.co.uk
SUMMARY:Sticky Peaches
DESCRIPTION:Sticky Peaches – A cheeky covers band with a classic\, yet unpredictable playlist.
URL:https://ehsaa.co.uk/social-event/sticky-peaches/
LOCATION:East Hastings Sea Angling Association\, The Stade\, Hastings\, East Sussex\, TN34 3FJ\, United Kingdom
ATTACH;FMTTYPE=image/jpeg:https://ehsaa.co.uk/wp-content/uploads/2024/08/Sticky-Peaches1.jpeg
END:VEVENT
BEGIN:VEVENT
DTSTART;TZID=UTC:20240921T203000
DTEND;TZID=UTC:20240921T230000
DTSTAMP:20260425T034403
CREATED:20240805T195636Z
LAST-MODIFIED:20260130T140157Z
UID:10000021-1726950600-1726959600@ehsaa.co.uk
SUMMARY:Soul Town
DESCRIPTION:Soul Town – All the best Motown music from a great band of up to 10 musicians.
URL:https://ehsaa.co.uk/social-event/soul-town/2024-09-21/
LOCATION:East Hastings Sea Angling Association\, The Stade\, Hastings\, East Sussex\, TN34 3FJ\, United Kingdom
ATTACH;FMTTYPE=image/jpeg:https://ehsaa.co.uk/wp-content/uploads/2024/08/Soul-Town1.jpg
END:VEVENT
BEGIN:VEVENT
DTSTART;TZID=UTC:20240915T140000
DTEND;TZID=UTC:20240915T160000
DTSTAMP:20260425T034403
CREATED:20240805T195323Z
LAST-MODIFIED:20240805T195323Z
UID:10000020-1726408800-1726416000@ehsaa.co.uk
SUMMARY:Brian Bushman
DESCRIPTION:Brian Bushman – A solo gig from a great guitarist
URL:https://ehsaa.co.uk/social-event/brian-bushman/
LOCATION:East Hastings Sea Angling Association\, The Stade\, Hastings\, East Sussex\, TN34 3FJ\, United Kingdom
ATTACH;FMTTYPE=image/jpeg:https://ehsaa.co.uk/wp-content/uploads/2024/08/Brian-Bushman.jpg
END:VEVENT
BEGIN:VEVENT
DTSTART;TZID=UTC:20240914T203000
DTEND;TZID=UTC:20240914T230000
DTSTAMP:20260425T034403
CREATED:20240805T195121Z
LAST-MODIFIED:20241009T145953Z
UID:10000019-1726345800-1726354800@ehsaa.co.uk
SUMMARY:Groove UK
DESCRIPTION:Groove UK – All the best disco hits from an energetic and entertaining band.
URL:https://ehsaa.co.uk/social-event/groove-uk/2024-09-14/
LOCATION:East Hastings Sea Angling Association\, The Stade\, Hastings\, East Sussex\, TN34 3FJ\, United Kingdom
ATTACH;FMTTYPE=image/png:https://ehsaa.co.uk/wp-content/uploads/2024/08/Groove-UK1.png
END:VEVENT
BEGIN:VEVENT
DTSTART;TZID=UTC:20240908T140000
DTEND;TZID=UTC:20240908T160000
DTSTAMP:20260425T034403
CREATED:20240805T151921Z
LAST-MODIFIED:20250430T141557Z
UID:10000016-1725804000-1725811200@ehsaa.co.uk
SUMMARY:Ritchie Lee
DESCRIPTION:Ritchie Lee – A talented and versatile solo singer\, entertainment guaranteed.
URL:https://ehsaa.co.uk/social-event/ritchie-lee/2024-09-08/
LOCATION:East Hastings Sea Angling Association\, The Stade\, Hastings\, East Sussex\, TN34 3FJ\, United Kingdom
ATTACH;FMTTYPE=image/jpeg:https://ehsaa.co.uk/wp-content/uploads/2024/08/ritchie-lee3.jpg
END:VEVENT
BEGIN:VEVENT
DTSTART;TZID=UTC:20240907T203000
DTEND;TZID=UTC:20240907T230000
DTSTAMP:20260425T034403
CREATED:20240805T151517Z
LAST-MODIFIED:20240806T125537Z
UID:10000015-1725741000-1725750000@ehsaa.co.uk
SUMMARY:Brenda's Girl
DESCRIPTION:Brenda’s Girl – A fabulous covers band who love what they do!
URL:https://ehsaa.co.uk/social-event/brendas-girl/
LOCATION:East Hastings Sea Angling Association\, The Stade\, Hastings\, East Sussex\, TN34 3FJ\, United Kingdom
ATTACH;FMTTYPE=image/jpeg:https://ehsaa.co.uk/wp-content/uploads/2024/08/brendas-girl1.jpg
END:VEVENT
BEGIN:VEVENT
DTSTART;TZID=UTC:20240901T140000
DTEND;TZID=UTC:20240901T160000
DTSTAMP:20260425T034403
CREATED:20240805T151331Z
LAST-MODIFIED:20240805T151331Z
UID:10000014-1725199200-1725206400@ehsaa.co.uk
SUMMARY:Double A Diamond
DESCRIPTION:Double A Diamond – combining the powerful vocals of Amanda Simmonds and the acoustic party that is Earl Grey
URL:https://ehsaa.co.uk/social-event/double-a-diamond/
LOCATION:East Hastings Sea Angling Association\, The Stade\, Hastings\, East Sussex\, TN34 3FJ\, United Kingdom
ATTACH;FMTTYPE=image/png:https://ehsaa.co.uk/wp-content/uploads/2024/08/Double-A-Diamond.png
END:VEVENT
BEGIN:VEVENT
DTSTART;TZID=UTC:20240831T203000
DTEND;TZID=UTC:20240831T230000
DTSTAMP:20260425T034403
CREATED:20240805T145712Z
LAST-MODIFIED:20240806T125351Z
UID:10000012-1725136200-1725145200@ehsaa.co.uk
SUMMARY:Mark Wright (Neil Diamond Tribute)
DESCRIPTION:Neil Diamond Tribute – Mark Wright brings you his excellent Neil Diamond show with a great party atmosphere
URL:https://ehsaa.co.uk/social-event/mark-wright-neil-diamond-tribute/
LOCATION:East Hastings Sea Angling Association\, The Stade\, Hastings\, East Sussex\, TN34 3FJ\, United Kingdom
ATTACH;FMTTYPE=image/jpeg:https://ehsaa.co.uk/wp-content/uploads/2024/08/Neil-Diamond1.jpg
END:VEVENT
BEGIN:VEVENT
DTSTART;TZID=UTC:20240825T140000
DTEND;TZID=UTC:20240825T160000
DTSTAMP:20260425T034403
CREATED:20240805T145421Z
LAST-MODIFIED:20260105T115115Z
UID:10000010-1724594400-1724601600@ehsaa.co.uk
SUMMARY:Yasmien
DESCRIPTION:Yasmien Huband – our very own songstress bringing you popular songs from all eras with a soulful twist.
URL:https://ehsaa.co.uk/social-event/yasmien-huband/2024-08-25/2/
LOCATION:East Hastings Sea Angling Association\, The Stade\, Hastings\, East Sussex\, TN34 3FJ\, United Kingdom
ATTACH;FMTTYPE=image/jpeg:https://ehsaa.co.uk/wp-content/uploads/2024/08/yas.jpg
END:VEVENT
BEGIN:VEVENT
DTSTART;TZID=UTC:20240825T080000
DTEND;TZID=UTC:20240825T170000
DTSTAMP:20260425T034403
CREATED:20240805T145421Z
LAST-MODIFIED:20260105T115115Z
UID:10000161-1724572800-1724605200@ehsaa.co.uk
SUMMARY:Yasmien
DESCRIPTION:Yasmien Huband – our very own songstress bringing you popular songs from all eras with a soulful twist.
URL:https://ehsaa.co.uk/social-event/yasmien-huband/2024-08-25/1/
LOCATION:East Hastings Sea Angling Association\, The Stade\, Hastings\, East Sussex\, TN34 3FJ\, United Kingdom
ATTACH;FMTTYPE=image/jpeg:https://ehsaa.co.uk/wp-content/uploads/2024/08/yas.jpg
END:VEVENT
BEGIN:VEVENT
DTSTART;TZID=UTC:20240824T203000
DTEND;TZID=UTC:20240824T230000
DTSTAMP:20260425T034403
CREATED:20240805T144750Z
LAST-MODIFIED:20251018T122737Z
UID:10000009-1724531400-1724540400@ehsaa.co.uk
SUMMARY:Andy T King as Elvis
DESCRIPTION:Andy T King – Elvis Tribute
URL:https://ehsaa.co.uk/social-event/andy-t-king/2024-08-24/
LOCATION:East Hastings Sea Angling Association\, The Stade\, Hastings\, East Sussex\, TN34 3FJ\, United Kingdom
ATTACH;FMTTYPE=image/jpeg:https://ehsaa.co.uk/wp-content/uploads/2024/08/elvis.jpg
END:VEVENT
BEGIN:VEVENT
DTSTART;TZID=UTC:20240817T203000
DTEND;TZID=UTC:20240817T230000
DTSTAMP:20260425T034403
CREATED:20240805T140029Z
LAST-MODIFIED:20240805T140029Z
UID:10000004-1723926600-1723935600@ehsaa.co.uk
SUMMARY:Cushty
DESCRIPTION:Cushty – A high-energy\, 3-piece band covering artists from the 80s to the present day.
URL:https://ehsaa.co.uk/social-event/cushty/
LOCATION:East Hastings Sea Angling Association\, The Stade\, Hastings\, East Sussex\, TN34 3FJ\, United Kingdom
ATTACH;FMTTYPE=image/jpeg:https://ehsaa.co.uk/wp-content/uploads/2024/08/Cushty.jpg
END:VEVENT
BEGIN:VEVENT
DTSTART;TZID=UTC:20240811T140000
DTEND;TZID=UTC:20240811T160000
DTSTAMP:20260425T034403
CREATED:20240805T135049Z
LAST-MODIFIED:20260115T135839Z
UID:10000003-1723384800-1723392000@ehsaa.co.uk
SUMMARY:Stevie Bart
DESCRIPTION:Stevie Bart – the man of many voices\, providing music from the stars of rock n’ roll from the 50s\, 60s and beyond.
URL:https://ehsaa.co.uk/social-event/stevie-bart/2024-08-11/
LOCATION:East Hastings Sea Angling Association\, The Stade\, Hastings\, East Sussex\, TN34 3FJ\, United Kingdom
ATTACH;FMTTYPE=image/jpeg:https://ehsaa.co.uk/wp-content/uploads/2024/08/stevie-bart.jpg
END:VEVENT
BEGIN:VEVENT
DTSTART;TZID=UTC:20240810T203000
DTEND;TZID=UTC:20240810T230000
DTSTAMP:20260425T034403
CREATED:20240805T130408Z
LAST-MODIFIED:20241009T133037Z
UID:10000001-1723321800-1723330800@ehsaa.co.uk
SUMMARY:2B40
DESCRIPTION:All the very best of UB40 and much more \n 
URL:https://ehsaa.co.uk/social-event/2b40-2/2024-08-10/
LOCATION:East Hastings Sea Angling Association\, The Stade\, Hastings\, East Sussex\, TN34 3FJ\, United Kingdom
ATTACH;FMTTYPE=image/jpeg:https://ehsaa.co.uk/wp-content/uploads/2024/08/2B40-2.jpg
END:VEVENT
END:VCALENDAR