BEGIN:VCALENDAR
VERSION:2.0
PRODID:-//E.H.S.A.A. - ECPv6.15.20//NONSGML v1.0//EN
CALSCALE:GREGORIAN
METHOD:PUBLISH
X-WR-CALNAME:E.H.S.A.A.
X-ORIGINAL-URL:https://ehsaa.co.uk
X-WR-CALDESC:Events for E.H.S.A.A.
REFRESH-INTERVAL;VALUE=DURATION:PT1H
X-Robots-Tag:noindex
X-PUBLISHED-TTL:PT1H
BEGIN:VTIMEZONE
TZID:UTC
BEGIN:STANDARD
TZOFFSETFROM:+0000
TZOFFSETTO:+0000
TZNAME:UTC
DTSTART:20250101T000000
END:STANDARD
END:VTIMEZONE
BEGIN:VEVENT
DTSTART;TZID=UTC:20260620T203000
DTEND;TZID=UTC:20260620T230000
DTSTAMP:20260424T134755
CREATED:20240805T203506Z
LAST-MODIFIED:20260130T140017Z
UID:10000188-1781987400-1781996400@ehsaa.co.uk
SUMMARY:Kangaroo Juice
DESCRIPTION:Kangaroo Juice – Eastbourne based covers/function band – a favourite of EHSAA
URL:https://ehsaa.co.uk/social-event/kangaroo-juice/2026-06-20/
LOCATION:East Hastings Sea Angling Association\, The Stade\, Hastings\, East Sussex\, TN34 3FJ\, United Kingdom
ATTACH;FMTTYPE=image/jpeg:https://ehsaa.co.uk/wp-content/uploads/2024/08/kanagro0-juice.jpg
END:VEVENT
END:VCALENDAR